BEGIN:VCALENDAR
VERSION:2.0
PRODID:-//gruenesbrett//NONSGML v1.0//EN
X-WR-CALNAME:Grünes Brett
BEGIN:VEVENT
UID:xayhu786qty43@gruenesbrett
DTSTAMP:20260420T113029Z
DTSTART;TZID=Europe/Berlin:20260509T140000
DTEND;TZID=Europe/Berlin:20260509T000000
SUMMARY:Klimatag & Pflanzenflohmarkt
DESCRIPTION:🌍 Klimatag 2026  Das Klimanetz Vogtland und der BUND Vogtland laden dich ein, gemeinsam einen Blick in eine nachhaltige Zukunft zu werfen, ganz ohne Verzicht, dafür mit jeder Menge Inspiration.    ✨ Das erwartet dich:    🥗 Genuss-Küche: Wir kochen vegan mit einfachen & günstigen Zutaten. Probier mal!    📄 Rezepte to go: Nimm dir unsere kostenlosen Rezeptkarten für zu Hause mit.      🎤 Highlights auf der Bühne:     🌱 Saskia Meyer -> "Esswende"   Saskia Meyer erklärt fundiert und alltagsnah, wie die „Esswende“ gelingt und warum unsere tägliche Lebensmittelwahl der größte Hebel für Klimaschutz und Umweltbilanz ist.    🌱 Bernhard Herrmann -> Ex-MdB Bernhard Herrmann berichtet aus erster Hand über seine Erfahrungen mit Lobbyismus und dessen oft bremsenden Einfluss auf die Klima- und Energiepolitik.    🌱 Michael Dölz - Hochschule Hof -> erzählt über die "Intelligente Schwammregion".   "Wie wir durch lokale Wasserspeicherung urbane Räume gleichzeitig vor Flutkatastrophen schützen und gegen sommerliche Dürre rüsten.“    ☀️ Workshop " Wie baue ich eine Mini PV Anlage": Der BUND zeigt dir, wie du selbst zum Stromerzeuger wirst!    🌿 Pflanzenflohmarkt vom Pfaffengut Plauen: Finde neue grüne Schätze.      Komm vorbei, lass dich inspirieren und nimm frische Ideen mit in deinen Alltag. Wir freuen uns auf dich! 💚
CATEGORIES:Workshop,Vortrag
URL:https://www.xn--grnesbrett-beb.net/veranstaltung/xayhu786qty43
LOCATION:Pfaffengut Plauen
END:VEVENT
END:VCALENDAR
