BEGIN:VCALENDAR
VERSION:2.0
PRODID:-//gruenesbrett//NONSGML v1.0//EN
X-WR-CALNAME:Grünes Brett
BEGIN:VEVENT
UID:wb3tc6gehtgw8@gruenesbrett
DTSTAMP:20260421T105022Z
DTSTART;TZID=Europe/Berlin:20260426T090000
DTEND;TZID=Europe/Berlin:20260426T120000
SUMMARY:Frühlingszeit ist Kräuterzeit- Kräuterwanderung mit Kräuterpädagogin Helga Friese
DESCRIPTION:Kommt mit auf eine Kräuterwanderung in der Naturschutzstation Herrenhaide. Mit der Kräuterpädagogin Helga Friese entdecken Sie essbare Wildkräuter. Im Anschluss wird aus den gesammelten Kräutern eine Wildkräuterbutter gemacht.  Kommt vorbei!
CATEGORIES:Exkursion,Workshop
URL:https://www.xn--grnesbrett-beb.net/veranstaltung/wb3tc6gehtgw8
LOCATION:Naturschutzstation Herrenhaide
END:VEVENT
END:VCALENDAR
