BEGIN:VCALENDAR
VERSION:2.0
PRODID:-//gruenesbrett//NONSGML v1.0//EN
X-WR-CALNAME:Grünes Brett
BEGIN:VEVENT
UID:oyq5oh4h4wzvv@gruenesbrett
DTSTAMP:20260422T095839Z
DTSTART;TZID=Europe/Berlin:20260426T143000
DTEND;TZID=Europe/Berlin:20260426T173000
SUMMARY:Feministischer Mutti*Treff mit Vortrag: Einführung in den Ökofeminismus
DESCRIPTION:Du möchtest politisch aktiv sein, dein Wissen auffrischen, kannst aber an Veranstaltungen nicht teilnehmen, weil alles abends stattfindet oder man die Kinder betreuuen muss? Geht nicht nur dir so! Deswegen machen wir einen feministischen Mutti*Treff mit Kindern.    Wir wollen eine schöne Zeit im Garten verbringen und uns gegenseitig politischen Input geben. Während die Kinder im Garten spielen, wird es einen kleinen Vortrag geben. Unterbrechungen sind kein Problem ;)    Beim feministischen Mutti*Treff sind alle Elternteile herzlich eingeladen. Bitte bringt snacks zum teilen mit.    Der erste Vortrag ist: Einführung zum Ökofeminismus
CATEGORIES:Treffen,Vortrag
URL:https://www.xn--grnesbrett-beb.net/veranstaltung/oyq5oh4h4wzvv
LOCATION:Ideengarten Karree 72
END:VEVENT
END:VCALENDAR
