BEGIN:VCALENDAR
VERSION:2.0
PRODID:-//gruenesbrett//NONSGML v1.0//EN
X-WR-CALNAME:Grünes Brett
BEGIN:VEVENT
UID:hn82co5uf9noy@gruenesbrett
DTSTAMP:20260424T115926Z
DTSTART;TZID=Europe/Berlin:20260527T083000
DTEND;TZID=Europe/Berlin:20260527T150000
SUMMARY:Lebensraum Bergwiese „Exkursion Bärenbachwiese“
DESCRIPTION:atum: 27. Mai 08:30-15:00 Uhr  Veranstaltungsort: Treffpunkt Parkplatz Botanischer Garten Chemnitz (gemeinsame Fahrt nach Olbernhau)     Gemeinsam besuchen wir zwei Bergwiesen in Olbernhau, darunter das Kultur- und Naturdenkmal Bärenbachwiese. Vor Ort lernen wir typische Tier- und Pflanzenarten dieses besonderen Lebensraums kennen und erfahren mehr über die Entstehung, ursprüngliche Nutzung sowie heutige Pflege der Bergwiesen.  Auf dem Schwartenberg gehen wir anschließend auf die Suche nach Schwalbenschwänzen und weiteren Arten.     Bitte an wetterfeste Kleidung und festes Schuhwerk denken. Auf der Exkursion sind keine sanitären Einrichtungen vorhanden. Vegane/vegetarische Verpflegung möglich.     30€ pro Teilnehmenden.     Anmeldung unter info@nabu-rve.de oder 0163 3637816
CATEGORIES:Camp,Exkursion
URL:https://www.xn--grnesbrett-beb.net/veranstaltung/hn82co5uf9noy
LOCATION:Olbernau
END:VEVENT
END:VCALENDAR
