BEGIN:VCALENDAR
VERSION:2.0
PRODID:-//gruenesbrett//NONSGML v1.0//EN
X-WR-CALNAME:Grünes Brett
BEGIN:VEVENT
UID:8mjb8skp2cb8o@gruenesbrett
DTSTAMP:20260422T101612Z
DTSTART;TZID=Europe/Berlin:20260605T150000
DTEND;TZID=Europe/Berlin:20260605T180000
SUMMARY:Offener Ideengarten
DESCRIPTION:Wir laden herzlichen zum offenen Ideengarten ein. Es kann gegärtnert, gequatscht und ausgetauscht werden. Wer einfach die Sonne im Garten genießen möchte kann ebenfalls gerne vorbei schauen.  Bringt gerne snacks und eurer Kinder mit.
CATEGORIES:Treffen
URL:https://www.xn--grnesbrett-beb.net/veranstaltung/8mjb8skp2cb8o
LOCATION:Ideengarten Karree 72
END:VEVENT
END:VCALENDAR
